BEGIN:VCALENDAR
VERSION:2.0
PRODID:spatie/icalendar-generator
DESCRIPTION:Events from Izquierda Unida Álora
X-WR-CALDESC:Events from Izquierda Unida Álora
REFRESH-INTERVAL;VALUE=DURATION:PT1440M
X-PUBLISHED-TTL:PT1440M
BEGIN:VTIMEZONE
TZID:Europe/Madrid
BEGIN:DAYLIGHT
DTSTART:20240331T020000Z
TZOFFSETFROM:+0100
TZOFFSETTO:+0200
END:DAYLIGHT
BEGIN:STANDARD
DTSTART:20241027T030000Z
TZOFFSETFROM:+0200
TZOFFSETTO:+0100
END:STANDARD
BEGIN:DAYLIGHT
DTSTART:20250330T020000Z
TZOFFSETFROM:+0100
TZOFFSETTO:+0200
END:DAYLIGHT
END:VTIMEZONE
BEGIN:VTIMEZONE
TZID:UTC
BEGIN:STANDARD
DTSTART:20250725T184826Z
TZOFFSETFROM:+0000
TZOFFSETTO:+0000
END:STANDARD
END:VTIMEZONE
BEGIN:VEVENT
UID:490-86
DTSTAMP:20260421T184826Z
SUMMARY:1 año de genocidio en Palestina. 76 de colonización israelí
LOCATION:Plaza de la Marina (Málaga)
ORGANIZER;CN=IU Álora:MAILTO:info@gya.es
DTSTART;TZID=Europe/Madrid:20241006T120000
DTEND;TZID=Europe/Madrid:20241006T153300
X-ALT-DESC;FMTTYPE=TEXT/HTML:El 6 de Octubre llenaremos Málaga de miles de
  voces por la paz. Netanyahu quiere una guerra total en Oriente Medio. El 
 genocidio en Gaza y ahora la invasión del sur del Líbano y los ataques a
  Siria y Yemen no admiten tibiezas. Alto el fuego. Embargo de armas. Ruptu
 ra de relaciones ya con Israel!
CATEGORIES:Apoyamos,  Difundimos
URL;VALUE=URI:https://www.iualora.es/mc-events/1-ano-de-genocidio-en-palest
 ina-76-de-colonizacion-israeli/
METHOD:PUBLISH
END:VEVENT
END:VCALENDAR