BEGIN:VCALENDAR
VERSION:2.0
PRODID:spatie/icalendar-generator
DESCRIPTION:Events from Izquierda Unida Álora
X-WR-CALDESC:Events from Izquierda Unida Álora
REFRESH-INTERVAL;VALUE=DURATION:PT1440M
X-PUBLISHED-TTL:PT1440M
BEGIN:VTIMEZONE
TZID:Europe/Madrid
BEGIN:STANDARD
DTSTART:20231029T030000Z
TZOFFSETFROM:+0200
TZOFFSETTO:+0100
END:STANDARD
BEGIN:DAYLIGHT
DTSTART:20240331T020000Z
TZOFFSETFROM:+0100
TZOFFSETTO:+0200
END:DAYLIGHT
END:VTIMEZONE
BEGIN:VTIMEZONE
TZID:UTC
BEGIN:STANDARD
DTSTART:20250727T171012Z
TZOFFSETFROM:+0000
TZOFFSETTO:+0000
END:STANDARD
END:VTIMEZONE
BEGIN:VEVENT
UID:404-71
DTSTAMP:20260423T171012Z
SUMMARY:14 de Abril día de la República
LOCATION:
ORGANIZER;CN=IU Álora:MAILTO:info@gya.es
DTSTART;TZID=Europe/Madrid:20240414T180000
DTEND;TZID=Europe/Madrid:20240414T200000
X-ALT-DESC;FMTTYPE=TEXT/HTML:Con motivo de la celebración del Día de la R
 epública\, el próximo domingo 14 de abril de 2024\, desde IU Álora vamo
 s a hacer las siguientes actividades: Ofrenda floral en el Parque Luchador
 es por la Libertad a las 18:00 horas. Ofrenda floral en el Castillo de Ál
 ora a las 19:30 horas. Las ofrendas las haremos&amp;hellip\;
CATEGORIES:Izquierda Unida
URL;VALUE=URI:https://www.iualora.es/mc-events/14-de-abril-dia-de-la-republ
 ica/
METHOD:PUBLISH
END:VEVENT
END:VCALENDAR