BEGIN:VCALENDAR
VERSION:2.0
PRODID:spatie/icalendar-generator
DESCRIPTION:Events from Izquierda Unida Álora
X-WR-CALDESC:Events from Izquierda Unida Álora
REFRESH-INTERVAL;VALUE=DURATION:PT1440M
X-PUBLISHED-TTL:PT1440M
BEGIN:VTIMEZONE
TZID:Europe/Madrid
BEGIN:STANDARD
DTSTART:20231029T030000Z
TZOFFSETFROM:+0200
TZOFFSETTO:+0100
END:STANDARD
BEGIN:DAYLIGHT
DTSTART:20240331T020000Z
TZOFFSETFROM:+0100
TZOFFSETTO:+0200
END:DAYLIGHT
END:VTIMEZONE
BEGIN:VTIMEZONE
TZID:UTC
BEGIN:STANDARD
DTSTART:20250725T080049Z
TZOFFSETFROM:+0000
TZOFFSETTO:+0000
END:STANDARD
END:VTIMEZONE
BEGIN:VEVENT
UID:381-69
DTSTAMP:20260421T080049Z
SUMMARY:Defendamos la sanidad pública
LOCATION:Alameda de Colón\, esquina Muelle Heredia\, edificio sindicatos A
 lameda de Colón 19  Málaga  29001
ORGANIZER;CN=IU Álora:MAILTO:info@gya.es
DTSTART;TZID=Europe/Madrid:20240407T120000
DTEND;TZID=Europe/Madrid:20240407T140000
X-ALT-DESC;FMTTYPE=TEXT/HTML:El próximo domingo\, 7 de abril\, día mundia
 l de la salud\, tenemos una cita importantísima para seguir peleando por 
 nuestra sanidad como es la manifestación convocada por Marea Blanca a la 
 que debemos acudir masivamente. Es por esto\, por lo que te instamos a que
  asistas y participes del cortejo de Izquierda Unida Málaga. La&amp;hellip\;
CATEGORIES:Apoyamos,  Difundimos
URL;VALUE=URI:https://www.iualora.es/mc-events/defendamos-la-sanidad-public
 a/
METHOD:PUBLISH
END:VEVENT
END:VCALENDAR