BEGIN:VCALENDAR
VERSION:2.0
PRODID:spatie/icalendar-generator
DESCRIPTION:Events from Izquierda Unida Álora
X-WR-CALDESC:Events from Izquierda Unida Álora
REFRESH-INTERVAL;VALUE=DURATION:PT1440M
X-PUBLISHED-TTL:PT1440M
BEGIN:VTIMEZONE
TZID:Europe/Madrid
BEGIN:DAYLIGHT
DTSTART:20230326T020000Z
TZOFFSETFROM:+0100
TZOFFSETTO:+0200
END:DAYLIGHT
BEGIN:STANDARD
DTSTART:20231029T030000Z
TZOFFSETFROM:+0200
TZOFFSETTO:+0100
END:STANDARD
BEGIN:DAYLIGHT
DTSTART:20240331T020000Z
TZOFFSETFROM:+0100
TZOFFSETTO:+0200
END:DAYLIGHT
END:VTIMEZONE
BEGIN:VTIMEZONE
TZID:UTC
BEGIN:STANDARD
DTSTART:20250726T100832Z
TZOFFSETFROM:+0000
TZOFFSETTO:+0000
END:STANDARD
END:VTIMEZONE
BEGIN:VEVENT
UID:184-29
DTSTAMP:20260422T100832Z
SUMMARY:Andalucía con Palestina
LOCATION:Piscina municipal 29220 Cuevas Bajas\, Málaga
ORGANIZER;CN=IU Álora:MAILTO:info@gya.es
DTSTART;TZID=Europe/Madrid:20231112T120000
DTEND;TZID=Europe/Madrid:20231112T140000
X-ALT-DESC;FMTTYPE=TEXT/HTML:El genocidio en Palestina por parte del crimin
 al estado de Israel no cesa y nuestra labor es acudir a todo evento que de
 fienda el fin de esta masacre al pueblo palestino\, reclamando a su vez qu
 e los organismos internacionales hagan cumplir el Derecho Internacional y 
 las resoluciones de Naciones Unidas con todas las consecuencias para&amp;helli
 p\;
CATEGORIES:Apoyamos,  Difundimos
URL;VALUE=URI:https://www.iualora.es/mc-events/andalucia-con-palestina/
METHOD:PUBLISH
END:VEVENT
END:VCALENDAR