BEGIN:VCALENDAR
VERSION:2.0
PRODID:spatie/icalendar-generator
DESCRIPTION:Events from Izquierda Unida Álora
X-WR-CALDESC:Events from Izquierda Unida Álora
REFRESH-INTERVAL;VALUE=DURATION:PT1440M
X-PUBLISHED-TTL:PT1440M
BEGIN:VTIMEZONE
TZID:Europe/Madrid
BEGIN:STANDARD
DTSTART:20251026T030000Z
TZOFFSETFROM:+0200
TZOFFSETTO:+0100
END:STANDARD
BEGIN:DAYLIGHT
DTSTART:20260329T020000Z
TZOFFSETFROM:+0100
TZOFFSETTO:+0200
END:DAYLIGHT
END:VTIMEZONE
BEGIN:VTIMEZONE
TZID:UTC
BEGIN:STANDARD
DTSTART:20250726T122935Z
TZOFFSETFROM:+0000
TZOFFSETTO:+0000
END:STANDARD
END:VTIMEZONE
BEGIN:VEVENT
UID:576-138
DTSTAMP:20260422T122935Z
SUMMARY:Acto de clausura exposición fotográfica \"Cuando la conciencia no
 s llama\"
LOCATION:Sala de exposiciones \\\"La Cancula\\\" Av. Cervantes\, s/n  Álor
 a Málaga 29500
ORGANIZER;CN=IU Álora:MAILTO:info@gya.es
DTSTART;TZID=Europe/Madrid:20260117T113000
DTEND;TZID=Europe/Madrid:20260117T133000
X-ALT-DESC;FMTTYPE=TEXT/HTML:Queremos cerrar este exposición con un homena
 je a poetas palestinas y palestinos. Tendremos un micro abierto y leeremos
  poemas de Hanan Mikhail Ashrawi\, Refaat Alareer\, Mahmoud Darwish y Rafe
 ef Ziadah\, entre otros
CATEGORIES:Izquierda Unida
URL;VALUE=URI:https://www.iualora.es/mc-events/acto-de-clausura-exposicion-
 fotografica-cuando-la-conciencia-nos-llama/
METHOD:PUBLISH
END:VEVENT
END:VCALENDAR