BEGIN:VCALENDAR
VERSION:2.0
PRODID:spatie/icalendar-generator
DESCRIPTION:Events from Izquierda Unida Álora
X-WR-CALDESC:Events from Izquierda Unida Álora
REFRESH-INTERVAL;VALUE=DURATION:PT1440M
X-PUBLISHED-TTL:PT1440M
BEGIN:VTIMEZONE
TZID:Europe/Madrid
BEGIN:STANDARD
DTSTART:20251026T030000Z
TZOFFSETFROM:+0200
TZOFFSETTO:+0100
END:STANDARD
BEGIN:DAYLIGHT
DTSTART:20260329T020000Z
TZOFFSETFROM:+0100
TZOFFSETTO:+0200
END:DAYLIGHT
END:VTIMEZONE
BEGIN:VTIMEZONE
TZID:UTC
BEGIN:STANDARD
DTSTART:20250726T111047Z
TZOFFSETFROM:+0000
TZOFFSETTO:+0000
END:STANDARD
END:VTIMEZONE
BEGIN:VEVENT
UID:575-137
DTSTAMP:20260422T111047Z
SUMMARY:Cuando la conciencia nos llama
LOCATION:Sala de exposiciones \\\"La Cancula\\\" Av. Cervantes\, s/n  Álor
 a Málaga 29500
ORGANIZER;CN=IU Álora:MAILTO:info@gya.es
DTSTART;TZID=Europe/Madrid;VALUE=DATE:20260110
DTEND;TZID=Europe/Madrid;VALUE=DATE:20260118
X-ALT-DESC;FMTTYPE=TEXT/HTML:Exposición de fotografías de Osama Kahlout\,
  foto-periodista gazatí. Cuando la conciencia nos llama es una exposción
  de 34 fotografías donde se puede sentir la cotidianiedad de un pueblo so
 metido a una agresión. Con ello\, el autor Osama Kahlout busca sensibiliz
 arnos y nos invita a involucrarnos en la protección de los Derechos Human
 os. Esta exposición interpela&amp;hellip\;
CATEGORIES:Apoyamos
URL;VALUE=URI:https://www.iualora.es/mc-events/cuando-la-conciencia-nos-lla
 ma/
METHOD:PUBLISH
END:VEVENT
END:VCALENDAR