BEGIN:VCALENDAR
VERSION:2.0
PRODID:spatie/icalendar-generator
DESCRIPTION:Events from Izquierda Unida Álora
X-WR-CALDESC:Events from Izquierda Unida Álora
REFRESH-INTERVAL;VALUE=DURATION:PT1440M
X-PUBLISHED-TTL:PT1440M
BEGIN:VTIMEZONE
TZID:Europe/Madrid
BEGIN:STANDARD
DTSTART:20231029T030000Z
TZOFFSETFROM:+0200
TZOFFSETTO:+0100
END:STANDARD
BEGIN:DAYLIGHT
DTSTART:20240331T020000Z
TZOFFSETFROM:+0100
TZOFFSETTO:+0200
END:DAYLIGHT
BEGIN:STANDARD
DTSTART:20241027T030000Z
TZOFFSETFROM:+0200
TZOFFSETTO:+0100
END:STANDARD
END:VTIMEZONE
BEGIN:VTIMEZONE
TZID:UTC
BEGIN:STANDARD
DTSTART:20250726T095839Z
TZOFFSETFROM:+0000
TZOFFSETTO:+0000
END:STANDARD
END:VTIMEZONE
BEGIN:VEVENT
UID:481-78
DTSTAMP:20260422T095839Z
SUMMARY:Antonio Maíllo en Málaga
LOCATION:
ORGANIZER;CN=IU Álora:MAILTO:info@gya.es
DTSTART;TZID=Europe/Madrid:20240503T183000
DTEND;TZID=Europe/Madrid:20240503T203000
X-ALT-DESC;FMTTYPE=TEXT/HTML:El próximo viernes\, 3 de mayo\, tenemos este
  estupendo acto en Málaga. Con la presencia de Antonio Maíllo\, Toni Val
 ero\, Toni Morillas y Sheila Jiménez. Te esperamos a las 18:30h. en el Po
 lo Digital de Málaga (Tabacalera)\, en Avda. Sor Teresa Prat\, 15. No fal
 tes!!
CATEGORIES:Izquierda Unida
URL;VALUE=URI:https://www.iualora.es/mc-events/antonio-maillo-en-malaga/
METHOD:PUBLISH
END:VEVENT
END:VCALENDAR