BEGIN:VCALENDAR
VERSION:2.0
PRODID:spatie/icalendar-generator
DESCRIPTION:Events from Izquierda Unida Álora
X-WR-CALDESC:Events from Izquierda Unida Álora
REFRESH-INTERVAL;VALUE=DURATION:PT1440M
X-PUBLISHED-TTL:PT1440M
BEGIN:VTIMEZONE
TZID:Europe/Madrid
BEGIN:STANDARD
DTSTART:20231029T030000Z
TZOFFSETFROM:+0200
TZOFFSETTO:+0100
END:STANDARD
BEGIN:DAYLIGHT
DTSTART:20240331T020000Z
TZOFFSETFROM:+0100
TZOFFSETTO:+0200
END:DAYLIGHT
END:VTIMEZONE
BEGIN:VTIMEZONE
TZID:UTC
BEGIN:STANDARD
DTSTART:20250726T102106Z
TZOFFSETFROM:+0000
TZOFFSETTO:+0000
END:STANDARD
END:VTIMEZONE
BEGIN:VEVENT
UID:251-45
DTSTAMP:20260422T102106Z
SUMMARY:Documental \"De espalda al sol\"
LOCATION:
ORGANIZER;CN=IU Álora:MAILTO:info@gya.es
DTSTART;TZID=Europe/Madrid:20240118T180000
DTEND;TZID=Europe/Madrid:20240118T200000
X-ALT-DESC;FMTTYPE=TEXT/HTML:El próximo jueves\, 18 de enero\, tendrá lug
 ar en Málaga el acto de presentación del documental «De espalda al sol
 » sobre La Desbandá\, con la presencia de Toni Morillas No faltes!!  18
  de Enero  18.00  Rectorado de la UMA. Avda. de Cervantes\, 2.
CATEGORIES:Difundimos
URL;VALUE=URI:https://www.iualora.es/mc-events/documental-de-espalda-al-sol
 /
METHOD:PUBLISH
END:VEVENT
END:VCALENDAR