BEGIN:VCALENDAR
VERSION:2.0
PRODID:spatie/icalendar-generator
DESCRIPTION:Events from Izquierda Unida Álora
X-WR-CALDESC:Events from Izquierda Unida Álora
REFRESH-INTERVAL;VALUE=DURATION:PT1440M
X-PUBLISHED-TTL:PT1440M
BEGIN:VTIMEZONE
TZID:Europe/Madrid
BEGIN:DAYLIGHT
DTSTART:20230326T020000Z
TZOFFSETFROM:+0100
TZOFFSETTO:+0200
END:DAYLIGHT
BEGIN:STANDARD
DTSTART:20231029T030000Z
TZOFFSETFROM:+0200
TZOFFSETTO:+0100
END:STANDARD
BEGIN:DAYLIGHT
DTSTART:20240331T020000Z
TZOFFSETFROM:+0100
TZOFFSETTO:+0200
END:DAYLIGHT
END:VTIMEZONE
BEGIN:VTIMEZONE
TZID:UTC
BEGIN:STANDARD
DTSTART:20250726T101819Z
TZOFFSETFROM:+0000
TZOFFSETTO:+0000
END:STANDARD
END:VTIMEZONE
BEGIN:VEVENT
UID:245-41
DTSTAMP:20260422T101819Z
SUMMARY:#SeAcabó
LOCATION:Plaza de la Fuente Arriba
ORGANIZER;CN=IU Álora:MAILTO:info@gya.es
DTSTART;TZID=Europe/Madrid:20231124T180000
DTEND;TZID=Europe/Madrid:20231124T200000
X-ALT-DESC;FMTTYPE=TEXT/HTML:Con motivo del 25N desde Izquierda Unida Á
 lora vamos a realizar una acción en la Plaza de la Fuente Arriba. Querem
 os recordar a las que ya no están entre nosotras y queremos gritar con fu
 erza\, con rabia SE ACABÓ!!! También puedes hacer visible tu repulsa a 
 la violencia. Pon en tu ventana\, tu balcón… un cartel\, un lazo morado
 \, lo&amp;hellip\;
CATEGORIES:Izquierda Unida
URL;VALUE=URI:https://www.iualora.es/mc-events/seacabo/
METHOD:PUBLISH
END:VEVENT
END:VCALENDAR